BEGIN:VCALENDAR
VERSION:2.0
PRODID:-//Strays Home - ECPv6.2.8.2//NONSGML v1.0//EN
CALSCALE:GREGORIAN
METHOD:PUBLISH
X-WR-CALNAME:Strays Home
X-ORIGINAL-URL:https://strayshome.com
X-WR-CALDESC:Events for Strays Home
REFRESH-INTERVAL;VALUE=DURATION:PT1H
X-Robots-Tag:noindex
X-PUBLISHED-TTL:PT1H
BEGIN:VTIMEZONE
TZID:UTC
BEGIN:STANDARD
TZOFFSETFROM:+0000
TZOFFSETTO:+0000
TZNAME:UTC
DTSTART:20180101T000000
END:STANDARD
END:VTIMEZONE
BEGIN:VEVENT
DTSTART;TZID=UTC:20180927T180000
DTEND;TZID=UTC:20191231T190000
DTSTAMP:20260420T100147
CREATED:20150114T103332Z
LAST-MODIFIED:20150114T103332Z
UID:1647-1538071200-1577818800@strayshome.com
SUMMARY:Animal Shelter Volunteers Meeting
DESCRIPTION:At vero eos et accusamus et iusto odio dignissimos ducimus qui blanditiis praesentium voluptatum deleniti atque corrupti quos dolores et quas molestias excepturi sint occaecati cupiditate non provident\, similique sunt in culpa qui officia deserunt mollitia animi\, id est laborum et dolorum fuga. Et harum quidem rerum facilis est et expedita distinctio. \nNam libero tempore\, cum soluta nobis est eligendi optio cumque nihil impedit quo minus id quod maxime placeat facere possimus\, omnis voluptas assumenda est\, omnis dolor repellendus. Temporibus autem quibusdam et aut officiis debitis aut rerum necessitatibus saepe eveniet ut et voluptates repudiandae sint et molestiae non recusandae. At vero eos et accusamus et iusto odio dignissimos ducimus qui blanditiis praesentium voluptatum deleniti atque corrupti quos dolores et quas molestias excepturi sint occaecati cupiditate non provident\, similique sunt in culpa qui officia deserunt mollitia animi\, id est laborum et dolorum fuga. Et harum quidem rerum facilis est et expedita distinctio. Nam libero tempore\, cum soluta nobis est eligendi optio cumque nihil impedit quo minus id quod maxime placeat facere possimus\, omnis voluptas assumenda est\, omnis dolor repellendus. Temporibus autem quibusdam et aut officiis debitis aut rerum necessitatibus saepe eveniet ut et voluptates repudiandae sint et molestiae non recusandae.
URL:https://strayshome.com/event/animal-shelter-volunteers-meeting/
LOCATION:Laney College\, 900 Fallon Street\, Oakland\, CA\, CA 94607\, United States
CATEGORIES:Meeting,Volunteering
ATTACH;FMTTYPE=image/jpeg:https://strayshome.com/wp-content/uploads/2015/01/06.jpg
END:VEVENT
BEGIN:VEVENT
DTSTART;TZID=UTC:20180921T180000
DTEND;TZID=UTC:20191231T210000
DTSTAMP:20260420T100147
CREATED:20150114T100933Z
LAST-MODIFIED:20150114T100933Z
UID:1643-1537552800-1577826000@strayshome.com
SUMMARY:Meet & Greet Adoption Event
DESCRIPTION:At vero eos et accusamus et iusto odio dignissimos ducimus qui blanditiis praesentium voluptatum deleniti atque corrupti quos dolores et quas molestias excepturi sint occaecati cupiditate non provident\, similique sunt in culpa qui officia deserunt mollitia animi\, id est laborum et dolorum fuga. Et harum quidem rerum facilis est et expedita distinctio. Nam libero tempore\, cum soluta nobis est eligendi optio cumque nihil impedit quo minus id quod maxime placeat facere possimus\, omnis voluptas assumenda est\, omnis dolor repellendus. Temporibus autem quibusdam et aut officiis debitis aut rerum necessitatibus saepe eveniet ut et voluptates repudiandae sint et molestiae non recusandae.
URL:https://strayshome.com/event/meet-greet-adoption-event/
LOCATION:Saint Louis Zoo\, 1 Government Drive\, St. Louis\, MO\, MO 63110\, United States
CATEGORIES:Adoption,Charity,Meeting
ATTACH;FMTTYPE=image/jpeg:https://strayshome.com/wp-content/uploads/2015/01/05.jpg
ORGANIZER;CN="PetRescue Volunteers Team":MAILTO:pet-rescue-team@gmail.com
END:VEVENT
END:VCALENDAR